Workbook
Name Date_Year: 'Revenue & COGS Building'!$AA$61:$BV$61

Sheet ToC
A1: TABLE OF CONTENT
B3: Sheet | C3: Meaning | D3: Explanation
B5: INS | C5: Instructions | D5: Short instructions how to use model
B6: ASSUM | C6: Assumptions | D6: Assumptions used in model
B7: MC | C7: Model checks | D7: Validation and errors checks, consistency checks
B8: HF | C8: Historical financials statements | D8: Historical financials statements
B9: BVA | C9: Budget variance analysis | D9: Analysis of variance between actual and budgeted figures
B10: RA | C10: Ratio analysis | D10: Ratio analysis of historical financials
B11: REV COGS | C11: Revenue and COGS | D11: Schedule of revenues form sales, cost of goods sold and gross profit
B12: SH | C12: Salaries and headcount | D12: Basic salaries and headcount projections4
B13: OH | C13: Overhead expenses | D13: Projection of variable and fixed expenses
B14: OTH | C14: Other expenses | D14: Projection of other, non-cash expenses
B15: NWC | C15: Net working capital | D15: Schedule of net working capital
... B30: CC | C30: Comparable companies method | D30: Business valuation calculation based on comparable companies method
A32: Disclaimer: Adopted from Corporate Finance Hub

Sheet Instructions
A1: INSTRUCTIONS
B5: =100 -> 100 | D5: Input cell
B7: 100 | D7: Cell under formula
B9: =+B1+B7 -> 100 | D9: SUM formula applied
B11: =+B22-B35 -> 0 | D11: Accuracy check, should be 0 always
B15: 1 | C15: Fill blue cells only
B16: 2 | C16: Try not to change formula in other cells
B17: 3 | C17: The formulas are opened due to flexibility of model, we suggest to protect your formulas when start working
B18: 4 | C18: If you want to add rows or columns make sure you update and check SUM formula in bottom line
B19: 5 | C19: Follow validation and consistency check sheet and investigate any significant differences that may appear
B20: 6 | C20: For some categories I provide basic and alternative schedules. Alternative schedules are just given as example, while basic schedules are linked in further 3 statements model and other calculations
B21: 7 | C21: The numbers in the model are placeholders. Replace with own

Sheet MC
A1: 1 | B1: VALIDATIONS AND CONSISTENCY CHECKS
B3: Validations | H3: Consistency checks
B5: Total Assets = Total Equity and liabilities in last year | E5: =+'Historicals & Projections'!C3 -> 0 | H5: Revenue assumed growth rate vs revenue CAGR in projections | I5: =+'Revenue & COGS Building'!H7 -> 0.06 | J5: vs | K5: =+'Revenue & COGS Building'!Z68 -> 0
B6: Total Assets = Total Equity and liabilities in current year | E6: =+'Historicals & Projections'!D3 -> 0 | H6: Revenue projected growth rate vs headcount projected growth rate | I6: =+'Revenue & COGS Building'!Z68 -> 0 | J6: vs | K6: =+#REF! -> #REF!
B7: Net income from current year P&L = Equity increase in BS | E7: =+'Historicals & Projections'!D71 -> 0 | H7: Revenue growth rate vs Labor cost growth rate | I7: =+'Revenue & COGS Building'!Z68 -> 0 | J7: vs | K7: =+#REF! -> #REF!
B8: Cash at the end of period in Cash flow statement = Cash and equivalents in BS | E8: =+'Historicals & Projections'!D102 -> 0 | H8: Revenue projected growth rate vs variable overhead costs projection rate | I8: =+'Revenue & COGS Building'!Z68 -> 0 | J8: vs | K8: =+Overheads!#REF! -> #REF!
B9: Revenues in historical profit and loss matches with revenues in schedules | E9: =+'Revenue & COGS Building'!#REF! -> #REF! | H9: Revenue projected growth rate vs fixed overhead costs projection rate | I9: =+'Revenue & COGS Building'!Z68 -> 0 | J9: vs | K9: =+Overheads!#REF! -> #REF!
B10: Gross profit in historical profit and loss matches with gross profit in schedules | E10: =+'Revenue & COGS Building'!H109 -> 0 | H10: Revenue projected growth rate vs gross profit projection rate | I10: =+'Revenue & COGS Building'!Z68 -> 0 | J10: vs | K10: =+'Revenue & COGS Building'!Z107 -> 0
B11: Starting headcount number in projection table = historical headcount number | E11: =+#REF! -> #REF! | H11: Interest expenses share in debt: historical vs projected average | I11: =+'Historicals & Projections'!D63/('Historicals & Projections'!D28+'Historicals & Projections'!D22) -> 0.069444444 | J11: vs | K11: =AVERAGE(FIN!D52:H52) -> 0.069444444
B12: Projected balance sheet is in balance | E12: =SUM(BS!E3:I3) -> 0 | H12: Total fixed costs in revenue: historical vs projected | I12: =+('Historicals & Projections'!D42+'Historicals & Projections'!D48)/'Historicals & Projections'!D40 -> 0.11818182 | J12: vs | K12: =+(PL!I10+PL!I16)/PL!I8 -> 1.7331542
B13: Cash position in Projected cash flow statements = Cash position in projected balance sheet | E13: =SUM(CF!C3:G3) -> 0 | H13: Depreciation and amortization costs to non-current assets: historical vs projected period | I13: =+'Historicals & Projections'!D59/'Historicals & Projections'!D17 -> 0.13333333 | J13: vs | K13: =+PL!P27/BS!P19 -> 0.018806744
B14: Starting figures of variable overhead costs in projection table = historical variable overhead costs | E14: =+Overheads!C26 -> 0 | H14: Non-current assets to Revenues historical vs projected period | I14: =+'Historicals & Projections'!D17/'Historicals & Projections'!D40 -> 0.068181818 | J14: vs | K14: =+BS!P19/PL!P8 -> 0.013457455
B15: Starting figures of fixed overhead costs in projection table = historical fixed overhead costs | E15: =+Overheads!C48 -> 0 | H15: Net working capital to Revenues historical vs projected period | I15: =+NWC!D28/'Historicals & Projections'!D40 -> 0.040909091 | J15: vs | K15: =+NWC!P28/PL!P8 -> 0.0026744522
B16: Financial liabilities in historical balance sheets tie with financial liabilities schedule | E16: =+FIN!C37 -> 0
B17: Salaries in profit and loss account = salaries in schedules | E17: =+'Salaries & Headcount'!#REF! -> #REF!
B18: Income tax in historical profit and loss matches with income tax in schedule | E18: =SUM('Income Tax'!C28:D28) -> 0

Sheet Assumptions
A1: ASSUMPTIONS
B3: Project name | C3: [Placeholder]
B4: Currency | C4: $ thousands
B5: Current year | C5: 2025
B6: Number of days | C6: 12
B7: Corporate income tax rate | C7: =15% -> 0.15
B8: Local inflation rate estimate | C8: =10% -> 0.1
B9: Discount rate | C9: =+WACC!C33 -> 0.26509188
B10: Long term cash flow growth rate | C10: =+'DCF '!C10 -> 0.015
B11: Headcount | C11: =16 -> 16
B12: Average Headcount current period | C12: =16 -> 16
B13: Average Headcount last period | C13: =16 -> 16
B14: Estimate revenue growth rate that will be applied in projections | C14: =6% -> 0.06
B15: Gross margin rate that will be applied in projections | C15: =+'Ratio Analysis'!D7 -> 0.38181818
B16: Minimum cash level at the end of period | C16: =1400 -> 1400

Sheet Historicals & Projections
A1: HISTORICAL & PROJECTIONS
B3: Check | C3: =+C19-C32 -> 0 | D3: =+D19-D32 -> 0 | E3: =+E19-E32 -> 0 | F3: =+F19-F32 -> 0 | G3: =+G19-G32 -> 0 | H3: =+H19-H32 -> 0 | I3: =+I19-I32 -> 0
C4: Historicals | G4: Forecast
G5: 1 | H5: =1+G5 -> 2 | I5: =1+H5 -> 3
B6: Balance sheet | C6: =+D6-1 -> 2024 | D6: =+Assumptions!C5 -> 2025 | E6: Change | G6: =D6+1 -> 2026 | H6: =G6+1 -> 2027 | I6: =H6+1 -> 2028
B8: Cash | C8: =225+150-200 -> 175 | D8: =+D100 -> 1310 | E8: =+D8-C8 -> 1135 | G8: =IF(AND(MOD(BS!P$6, 12) = 0, G$5=1), BS!P10, 0) -> -1040915.7 | H8: =IF(AND(MOD(BS!AB$6, 12) = 0, H$5=2), BS!AB10, 0) -> -2879200.7 | I8: =IF(AND(MOD(BS!AN$6, 12) = 0, I$5=3), BS!AN10, 0) -> -3730684.7
B9: Account Receivable | C9: 450 | D9: =500 -> 500 | E9: =+D9-C9 -> 50 | G9: =IF(MOD(BS!P$6, 12) = 0, BS!P11, 0) -> 412.32639 | H9: =IF(AND(MOD(BS!AB$6, 12) = 0, H$5=2), BS!AB11, 0) -> 1312.7872 | I9: =IF(AND(MOD(BS!AN$6, 12) = 0, I$5=3), BS!AN11, 0) -> 2242.7257
B10: Inventories | C10: 200 | D10: =300 -> 300 | E10: =+D10-C10 -> 100 | G10: =IF(MOD(BS!P$6, 12) = 0, BS!P12, 0) -> 243.29593 | H10: =IF(AND(MOD(BS!AB$6, 12) = 0, H$5=2), BS!AB12, 0) -> 776.21694 | I10: =IF(AND(MOD(BS!AN$6, 12) = 0, I$5=3), BS!AN12, 0) -> 1310.874
B11: Other current assets | C11: =100 -> 100 | D11: 150 | E11: =+D11-C11 -> 50 | G11: =IF(MOD(BS!P$6, 12) = 0, BS!P13, 0) -> 130.20833 | H11: =IF(AND(MOD(BS!AB$6, 12) = 0, H$5=2), BS!AB13, 0) -> 414.56439 | I11: =IF(AND(MOD(BS!AN$6, 12) = 0, I$5=3), BS!AN13, 0) -> 708.22917
B12: Current assets | C12: =SUM(C8:C11) -> 925 | D12: =SUM(D8:D11) -> 2260 | E12: =+D12-C12 -> 1335 | G12: =IF(MOD(BS!P$6, 12) = 0, BS!P14, 0) -> -1040129.9 | H12: =IF(AND(MOD(BS!AB$6, 12) = 0, H$5=2), BS!AB14, 0) -> -2876697.1 | I12: =IF(AND(MOD(BS!AN$6, 12) = 0, I$5=3), BS!AN14, 0) -> -3726422.9
B14: Intangible assets | C14: =100 -> 100 | D14: =200 -> 200 | E14: =+D14-C14 -> 100 | G14: =IF(MOD(BS!P$6, 12) = 0, BS!P16, 0) -> 616 | H14: =IF(AND(MOD(BS!AB$6, 12) = 0, H$5=2), BS!AB16, 0) -> 462 | I14: =IF(AND(MOD(BS!AN$6, 12) = 0, I$5=3), BS!AN16, 0) -> 308
B15: Tangible assets | C15: =300 -> 300 | D15: =400 -> 400 | E15: =+D15-C15 -> 100 | G15: =IF(MOD(BS!P$6, 12) = 0, BS!P17, 0) -> 776 | H15: =IF(AND(MOD(BS!AB$6, 12) = 0, H$5=2), BS!AB17, 0) -> 14873.667 | I15: =IF(AND(MOD(BS!AN$6, 12) = 0, I$5=3), BS!AN17, 0) -> 75179.667
B16: Other investments and assets | C16: =100 -> 100 | D16: 150 | E16: =+D16-C16 -> 50 | G16: =IF(MOD(BS!P$6, 12) = 0, BS!P18, 0) -> 150 | H16: =IF(AND(MOD(BS!AB$6, 12) = 0, H$5=2), BS!AB18, 0) -> 150 | I16: =IF(AND(MOD(BS!AN$6, 12) = 0, I$5=3), BS!AN18, 0) -> 150
B17: Non-current assets | C17: =SUM(C14:C16) -> 500 | D17: =SUM(D14:D16) -> 750 | E17: =+D17-C17 -> 250 | G17: =IF(MOD(BS!P$6, 12) = 0, BS!P19, 0) -> 1542 | H17: =IF(AND(MOD(BS!AB$6, 12) = 0, H$5=2), BS!AB19, 0) -> 15485.667 | I17: =IF(AND(MOD(BS!AN$6, 12) = 0, I$5=3), BS!AN19, 0) -> 75637.667
B19: Total assets | C19: =+C17+C12 -> 1425 | D19: =+D17+D12 -> 3010 | E19: =+D19-C19 -> 1585 | G19: =IF(MOD(BS!P$6, 12) = 0, BS!P21, 0) -> -1038587.9 | H19: =IF(AND(MOD(BS!AB$6, 12) = 0, H$5=2), BS!AB21, 0) -> -2861211.5 | I19: =IF(AND(MOD(BS!AN$6, 12) = 0, I$5=3), BS!AN21, 0) -> -3650785.2
B21: Trade payables | C21: =100 -> 100 | D21: 350 | E21: =+D21-C21 -> 250 | G21: =IF(MOD(BS!P$6, 12) = 0, BS!P23, 0) -> 218.96634 | H21: =IF(AND(MOD(BS!AB$6, 12) = 0, H$5=2), BS!AB23, 0) -> 698.59524 | I21: =IF(AND(MOD(BS!AN$6, 12) = 0, I$5=3), BS!AN23, 0) -> 1179.7866
B22: Financial liabilities | C22: =200 -> 200 | D22: 200 | E22: =+D22-C22 -> 0 | G22: =IF(MOD(BS!P$6, 12) = 0, BS!P24, 0) -> 200 | H22: =IF(AND(MOD(BS!AB$6, 12) = 0, H$5=2), BS!AB24, 0) -> 200 | I22: =IF(AND(MOD(BS!AN$6, 12) = 0, I$5=3), BS!AN24, 0) -> 200
B23: Other liabilities | C23: =125 -> 125 | D23: 150 | E23: =+D23-C23 -> 25 | G23: =IF(MOD(BS!P$6, 12) = 0, BS!P25, 0) -> 130.20833 | H23: =IF(AND(MOD(BS!AB$6, 12) = 0, H$5=2), BS!AB25, 0) -> 414.56439 | I23: =IF(AND(MOD(BS!AN$6, 12) = 0, I$5=3), BS!AN25, 0) -> 708.22917
B24: Current liabilities | C24: =SUM(C21:C23) -> 425 | D24: =SUM(D21:D23) -> 700 | E24: =+D24-C24 -> 275 | G24: =IF(MOD(BS!P$6, 12) = 0, BS!P26, 0) -> 549.17467 | H24: =IF(AND(MOD(BS!AB$6, 12) = 0, H$5=2), BS!AB26, 0) -> 1313.1596 | I24: =IF(AND(MOD(BS!AN$6, 12) = 0, I$5=3), BS!AN26, 0) -> 2088.0158
B26: Long term financial debt | C26: 250 | D26: 250 | E26: =+D26-C26 -> 0 | G26: =IF(MOD(BS!P$6, 12) = 0, BS!P28, 0) -> 500250 | H26: =IF(AND(MOD(BS!AB$6, 12) = 0, H$5=2), BS!AB28, 0) -> 1050250 | I26: =IF(AND(MOD(BS!AN$6, 12) = 0, I$5=3), BS!AN28, 0) -> 1050250
B27: Other long term liabilities | C27: 250 | D27: 270 | E27: =+D27-C27 -> 20 | G27: =IF(MOD(BS!P$6, 12) = 0, BS!P29, 0) -> 270 | H27: =IF(AND(MOD(BS!AB$6, 12) = 0, H$5=2), BS!AB29, 0) -> 270 | I27: =IF(AND(MOD(BS!AN$6, 12) = 0, I$5=3), BS!AN29, 0) -> 270
B28: Long term fin. liabilities | C28: =+C26+C27 -> 500 | D28: =+D26+D27 -> 520 | E28: =+D28-C28 -> 20 | G28: =IF(MOD(BS!P$6, 12) = 0, BS!P30, 0) -> 500520 | H28: =IF(AND(MOD(BS!AB$6, 12) = 0, H$5=2), BS!AB30, 0) -> 1050520 | I28: =IF(AND(MOD(BS!AN$6, 12) = 0, I$5=3), BS!AN30, 0) -> 1050520
B30: Equity | C30: =500 -> 500 | D30: =C30+D69-D34+D35 -> 1790 | E30: =+D30-C30 -> 1290 | G30: =IF(MOD(BS!P$6, 12) = 0, BS!P32, 0) -> -1539657.1 | H30: =IF(AND(MOD(BS!AB$6, 12) = 0, H$5=2), BS!AB32, 0) -> -3913044.6 | I30: =IF(AND(MOD(BS!AN$6, 12) = 0, I$5=3), BS!AN32, 0) -> -4703393.2
B32: Total Equity and liabilities | C32: =+C30+C24+C28 -> 1425 | D32: =+D30+D24+D28 -> 3010 | E32: =+D32-C32 -> 1585 | G32: =IF(MOD(BS!P$6, 12) = 0, BS!P34, 0) -> -1038587.9 | H32: =IF(AND(MOD(BS!AB$6, 12) = 0, H$5=2), BS!AB34, 0) -> -2861211.5 | I32: =IF(AND(MOD(BS!AN$6, 12) = 0, I$5=3), BS!AN34, 0) -> -3650785.2
B34: Dividends paid | C34: 200 | D34: 200 | E34: =+D34-C34 -> 0 | H34: =IF(AND(MOD(BS!AB$6, 12) = 0, H$5=2), BS!AB36, 0) -> 0 | I34: =IF(AND(MOD(BS!AN$6, 12) = 0, I$5=3), BS!AN36, 0) -> 0
B35: Increase of subscribed equity | C35: 100 | D35: 100 | E35: =+D35-C35 -> 0 | H35: 1000000 | I35: =IF(AND(MOD(BS!AN$6, 12) = 0, I$5=3), BS!AN37, 0) -> 0
B36: Cash received from sale of non-current assets | C36: 100 | D36: 125 | E36: =+D36-C36 -> 25 | H36: =IF(AND(MOD(BS!AB$6, 12) = 0, H$5=2), BS!AB38, 0) -> 0 | I36: =IF(AND(MOD(BS!AN$6, 12) = 0, I$5=3), BS!AN38, 0) -> 0
B38: Profit and Loss | C38: =+C6 -> 2024 | D38: =+D6 -> 2025 | E38: Change | G38: =G6 -> 2026 | H38: =H6 -> 2027 | I38: =I6 -> 2028
B40: Revenue | C40: =10000 -> 10000 | D40: =11000 -> 11000 | E40: =+D40-C40 -> 1000 | G40: =SUMIF(PL!$E$6:$AN$6,'Historicals & Projections'!G$6,PL!$E8:$AN8) -> 832616.67 | H40: =SUMIF(PL!$E$6:$AN$6,'Historicals & Projections'!H$6,PL!$E8:$AN8) -> 3389616.7 | I40: =SUMIF(PL!$E$6:$AN$6,'Historicals & Projections'!I$6,PL!$E8:$AN8) -> 6207725
B41: COGS variable | C41: =6000 -> 6000 | D41: =6600 -> 6600 | E41: =+D41-C41 -> 600 | G41: =SUMIF(PL!$E$6:$AN$6,'Historicals & Projections'!G$6,PL!$E9:$AN9) -> 564183.71 | H41: =SUMIF(PL!$E$6:$AN$6,'Historicals & Projections'!H$6,PL!$E9:$AN9) -> 2320865.2 | I41: =SUMIF(PL!$E$6:$AN$6,'Historicals & Projections'!I$6,PL!$E9:$AN9) -> 4224126.1
B42: COGS fixed | C42: =200 -> 200 | D42: =200 -> 200 | E42: =+D42-C42 -> 0 | G42: =SUMIF(PL!$E$6:$AN$6,'Historicals & Projections'!G$6,PL!$E10:$AN10) -> 10800 | H42: =SUMIF(PL!$E$6:$AN$6,'Historicals & Projections'!H$6,PL!$E10:$AN10) -> 16380 | I42: =SUMIF(PL!$E$6:$AN$6,'Historicals & Projections'!I$6,PL!$E10:$AN10) -> 22680
B43: COGS | C43: =SUM(C41:C42) -> 6200 | D43: =SUM(D41:D42) -> 6800 | E43: =+D43-C43 -> 600 | G43: =SUMIF(PL!$E$6:$AN$6,'Historicals & Projections'!G$6,PL!$E11:$AN11) -> 574983.71 | H43: =SUMIF(PL!$E$6:$AN$6,'Historicals & Projections'!H$6,PL!$E11:$AN11) -> 2337245.2 | I43: =SUMIF(PL!$E$6:$AN$6,'Historicals & Projections'!I$6,PL!$E11:$AN11) -> 4246806.1
B45: Gross profit | C45: =+C40-C43 -> 3800 | D45: =+D40-D43 -> 4200 | E45: =+D45-C45 -> 400 | G45: =SUMIF(PL!$E$6:$AN$6,'Historicals & Projections'!G$6,PL!$E13:$AN13) -> 257632.96 | H45: =SUMIF(PL!$E$6:$AN$6,'Historicals & Projections'!H$6,PL!$E13:$AN13) -> 1052371.5 | I45: =SUMIF(PL!$E$6:$AN$6,'Historicals & Projections'!I$6,PL!$E13:$AN13) -> 1960918.9
E46: =+D46-C46 -> 0
B47: Overhead - variable | C47: =1000 -> 1000 | D47: =1100 -> 1100 | E47: =+D47-C47 -> 100 | G47: =SUMIF(PL!$E$6:$AN$6,'Historicals & Projections'!G$6,PL!$E15:$AN15) -> 99807.214 | H47: =SUMIF(PL!$E$6:$AN$6,'Historicals & Projections'!H$6,PL!$E15:$AN15) -> 262219.8 | I47: =SUMIF(PL!$E$6:$AN$6,'Historicals & Projections'!I$6,PL!$E15:$AN15) -> 426616.77
B48: Overhead - fixed | C48: =1000 -> 1000 | D48: =1100 -> 1100 | E48: =+D48-C48 -> 100 | G48: =SUMIF(PL!$E$6:$AN$6,'Historicals & Projections'!G$6,PL!$E16:$AN16) -> 1176064 | H48: =SUMIF(PL!$E$6:$AN$6,'Historicals & Projections'!H$6,PL!$E16:$AN16) -> 1017549.3 | I48: =SUMIF(PL!$E$6:$AN$6,'Historicals & Projections'!I$6,PL!$E16:$AN16) -> 1156999.1
B49: Overhead costs | C49: =SUM(C47:C48) -> 2000 | D49: =SUM(D47:D48) -> 2200 | E49: =+D49-C49 -> 200 | G49: =SUMIF(PL!$E$6:$AN$6,'Historicals & Projections'!G$6,PL!$E17:$AN17) -> 1275871.2 | H49: =SUMIF(PL!$E$6:$AN$6,'Historicals & Projections'!H$6,PL!$E17:$AN17) -> 1279769.1 | I49: =SUMIF(PL!$E$6:$AN$6,'Historicals & Projections'!I$6,PL!$E17:$AN17) -> 1583615.8
E50: =+D50-C50 -> 0
B51: Gains from sale of non-current assets | C51: 50 | D51: 50 | E51: =+D51-C51 -> 0 | G51: =SUMIF(PL!$E$6:$AN$6,'Historicals & Projections'!G$6,PL!$E19:$AN19) -> 50 | H51: =SUMIF(PL!$E$6:$AN$6,'Historicals & Projections'!H$6,PL!$E19:$AN19) -> 0 | I51: =SUMIF(PL!$E$6:$AN$6,'Historicals & Projections'!I$6,PL!$E19:$AN19) -> 0
B52: Losses from sale of non-current assets | C52: 120 | D52: 90 | E52: =+D52-C52 -> -30 | G52: =SUMIF(PL!$E$6:$AN$6,'Historicals & Projections'!G$6,PL!$E20:$AN20) -> 0 | H52: =SUMIF(PL!$E$6:$AN$6,'Historicals & Projections'!H$6,PL!$E20:$AN20) -> 0 | I52: =SUMIF(PL!$E$6:$AN$6,'Historicals & Projections'!I$6,PL!$E20:$AN20) -> 0
...

Sheet Ratio Analysis
A1: RATIO ANALYSIS
C3: Historicals | E3: Forecast
B4: Profitability ratios | C4: =+'Historicals & Projections'!C6 -> 2024 | D4: =+'Historicals & Projections'!D6 -> 2025 | E4: =+'Historicals & Projections'!G6 -> 2026 | F4: =+'Historicals & Projections'!H6 -> 2027 | G4: =+'Historicals & Projections'!I6 -> 2028
B7: Gross profit margin | C7: =+'Historicals & Projections'!C45/'Historicals & Projections'!C40 -> 0.38 | D7: =+'Historicals & Projections'!D45/'Historicals & Projections'!D40 -> 0.38181818 | E7: =+'Historicals & Projections'!G45/'Historicals & Projections'!G40 -> 0.30942566 | F7: =+'Historicals & Projections'!H45/'Historicals & Projections'!H40 -> 0.31046917 | G7: =+'Historicals & Projections'!I45/'Historicals & Projections'!I40 -> 0.31588367
B8: EBITDA margin | C8: =+'Historicals & Projections'!C57/'Historicals & Projections'!C40 -> 0.161 | D8: =+'Historicals & Projections'!D57/'Historicals & Projections'!D40 -> 0.16727273 | E8: =+'Historicals & Projections'!G57/'Historicals & Projections'!G40 -> -1.2249223 | F8: =+'Historicals & Projections'!H57/'Historicals & Projections'!H40 -> -0.069009636 | G8: =+'Historicals & Projections'!I57/'Historicals & Projections'!I40 -> 0.058864466
B9: Net profit rate | C9: =+'Historicals & Projections'!C69/'Historicals & Projections'!C40 -> 0.119 | D9: =+'Historicals & Projections'!D69/'Historicals & Projections'!D40 -> 0.12636364 | E9: =+'Historicals & Projections'!G69/'Historicals & Projections'!G40 -> -1.8513286 | F9: =+'Historicals & Projections'!H69/'Historicals & Projections'!H40 -> -0.7001935 | G9: =+'Historicals & Projections'!I69/'Historicals & Projections'!I40 -> -0.28840655
B10: ROE | C10: =+'Historicals & Projections'!C69/'Historicals & Projections'!C30 -> 2.38 | D10: =+'Historicals & Projections'!D69/'Historicals & Projections'!D30 -> 0.77653631 | E10: =+'Historicals & Projections'!G69/'Historicals & Projections'!G30 -> 1.0011626 | F10: =+'Historicals & Projections'!H69/'Historicals & Projections'!H30 -> 0.6065322 | G10: =+'Historicals & Projections'!I69/'Historicals & Projections'!I30 -> 0.38065042
B11: ROCE | C11: =+'Historicals & Projections'!C69/('Historicals & Projections'!C30+'Historicals & Projections'!C28) -> 1.19 | D11: =+'Historicals & Projections'!D69/('Historicals & Projections'!D30+'Historicals & Projections'!D28) -> 0.6017316 | E11: =+'Historicals & Projections'!G69/('Historicals & Projections'!G30+'Historicals & Projections'!G28) -> 1.4833915 | F11: =+'Historicals & Projections'!H69/('Historicals & Projections'!H30+'Historicals & Projections'!H28) -> 0.82912389 | G11: =+'Historicals & Projections'!I69/('Historicals & Projections'!I30+'Historicals & Projections'!I28) -> 0.49012065
B12: ROA | C12: =+'Historicals & Projections'!C69/'Historicals & Projections'!C19 -> 0.83508772 | D12: =+'Historicals & Projections'!D69/'Historicals & Projections'!D19 -> 0.46179402 | E12: =+'Historicals & Projections'!G69/'Historicals & Projections'!G19 -> 1.4841758 | F12: =+'Historicals & Projections'!H69/'Historicals & Projections'!H19 -> 0.82950442 | G12: =+'Historicals & Projections'!I69/'Historicals & Projections'!I19 -> 0.49040097
B13: Revenue per employee | C13: =+'Historicals & Projections'!C40/Assumptions!C13 -> 625 | D13: =+'Historicals & Projections'!D40/Assumptions!C12 -> 687.5 | E13: =+'Historicals & Projections'!G40/Assumptions!C12 -> 52038.542 | F13: =+'Historicals & Projections'!H40/Assumptions!C12 -> 211851.04 | G13: =+'Historicals & Projections'!I40/Assumptions!C12 -> 387982.81
B14: Profit per employee | C14: =+'Historicals & Projections'!C69/Assumptions!C13 -> 74.375 | D14: =+'Historicals & Projections'!D69/Assumptions!C12 -> 86.875 | E14: =+'Historicals & Projections'!G69/Assumptions!C12 -> -96340.442 | F14: =+'Historicals & Projections'!H69/Assumptions!C12 -> -148336.72 | G14: =+'Historicals & Projections'!I69/Assumptions!C12 -> -111896.79
B15: EBITDA per employee | C15: =+'Historicals & Projections'!C57/Assumptions!C13 -> 100.625 | D15: =+'Historicals & Projections'!D57/Assumptions!C13 -> 115 | E15: =+'Historicals & Projections'!G57/Assumptions!C13 -> -63743.171 | F15: =+'Historicals & Projections'!H57/Assumptions!C13 -> -14619.763 | G15: =+'Historicals & Projections'!I57/Assumptions!C13 -> 22838.401
B18: Liquidity | C18: =+'Historicals & Projections'!C38 -> 2024 | D18: =+'Historicals & Projections'!D38 -> 2025 | E18: =+'Historicals & Projections'!G38 -> 2026 | F18: =+'Historicals & Projections'!H38 -> 2027 | G18: =+'Historicals & Projections'!I38 -> 2028
B21: Net working capital | C21: =+'Historicals & Projections'!C10+'Historicals & Projections'!C9-'Historicals & Projections'!C21+'Historicals & Projections'!C11-'Historicals & Projections'!C23 -> 525 | D21: =+'Historicals & Projections'!D10+'Historicals & Projections'!D9-'Historicals & Projections'!D21+'Historicals & Projections'!D11-'Historicals & Projections'!D23 -> 450 | E21: =+'Historicals & Projections'!G10+'Historicals & Projections'!G9-'Historicals & Projections'!G21+'Historicals & Projections'!G11-'Historicals & Projections'!G23 -> 436.65598 | F21: =+'Historicals & Projections'!H10+'Historicals & Projections'!H9-'Historicals & Projections'!H21+'Historicals & Projections'!H11-'Historicals & Projections'!H23 -> 1390.4089 | G21: =+'Historicals & Projections'!I10+'Historicals & Projections'!I9-'Historicals & Projections'!I21+'Historicals & Projections'!I11-'Historicals & Projections'!I23 -> 2373.8131
B22: Current assets - Current liabilities | C22: =+'Historicals & Projections'!C12-'Historicals & Projections'!C24 -> 500 | D22: =+'Historicals & Projections'!D12-'Historicals & Projections'!D24 -> 1560 | E22: =+'Historicals & Projections'!G12-'Historicals & Projections'!G24 -> -1040679.1 | F22: =+'Historicals & Projections'!H12-'Historicals & Projections'!H24 -> -2878010.3 | G22: =+'Historicals & Projections'!I12-'Historicals & Projections'!I24 -> -3728510.9
B23: Current ratio | C23: =+'Historicals & Projections'!C12/'Historicals & Projections'!C24 -> 2.1764706 | D23: =+'Historicals & Projections'!D12/'Historicals & Projections'!D24 -> 3.2285714 | E23: =+'Historicals & Projections'!G12/'Historicals & Projections'!G24 -> -1893.9874 | F23: =+'Historicals & Projections'!H12/'Historicals & Projections'!H24 -> -2190.6683 | G23: =+'Historicals & Projections'!I12/'Historicals & Projections'!I24 -> -1784.6718
B24: Cash ratio | C24: =+'Historicals & Projections'!C8/'Historicals & Projections'!C24 -> 0.41176471 | D24: =+'Historicals & Projections'!D8/'Historicals & Projections'!D24 -> 1.8714286 | E24: =+'Historicals & Projections'!G8/'Historicals & Projections'!G24 -> -1895.4183 | F24: =+'Historicals & Projections'!H8/'Historicals & Projections'!H24 -> -2192.5748 | G24: =+'Historicals & Projections'!I8/'Historicals & Projections'!I24 -> -1786.7129
B25: Quick ratio | C25: =+('Historicals & Projections'!C9+'Historicals & Projections'!C8)/'Historicals & Projections'!C24 -> 1.4705882 | D25: =+('Historicals & Projections'!D9+'Historicals & Projections'!D8)/'Historicals & Projections'!D24 -> 2.5857143 | E25: =+('Historicals & Projections'!G9+'Historicals & Projections'!G8)/'Historicals & Projections'!G24 -> -1894.6675 | F25: =+('Historicals & Projections'!H9+'Historicals & Projections'!H8)/'Historicals & Projections'!H24 -> -2191.5751 | G25: =+('Historicals & Projections'!I9+'Historicals & Projections'!I8)/'Historicals & Projections'!I24 -> -1785.6388
B26: Working capital ratio | C26: =+C22/'Historicals & Projections'!$C$19 -> 0.35087719 | D26: =+D22/'Historicals & Projections'!$D$12 -> 0.69026549 | E26: =+E22/'Historicals & Projections'!$D$12 -> -460.47747 | F26: =+F22/'Historicals & Projections'!$D$12 -> -1273.4559 | G26: =+G22/'Historicals & Projections'!$D$12 -> -1649.7836
B29: Efficiency | C29: =+C18 -> 2024 | D29: =+D18 -> 2025 | E29: =+E18 -> 2026 | F29: =+F18 -> 2027 | G29: =+G18 -> 2028
B31: Days sales outstanding | C31: =+'Historicals & Projections'!C9/'Historicals & Projections'!C40*365 -> 16.425 | D31: =+(('Historicals & Projections'!C9+'Historicals & Projections'!D9)/2)/'Historicals & Projections'!D40*365 -> 15.761364 | E31: =+(('Historicals & Projections'!F9+'Historicals & Projections'!G9)/2)/'Historicals & Projections'!G40*365 -> 0.090377204 | F31: =+(('Historicals & Projections'!G9+'Historicals & Projections'!H9)/2)/'Historicals & Projections'!H40*365 -> 0.092881665 | G31: =+(('Historicals & Projections'!H9+'Historicals & Projections'!I9)/2)/'Historicals & Projections'!I40*365 -> 0.10452801
B32: Days inventory outstanding | C32: =+'Historicals & Projections'!C10/'Historicals & Projections'!C43*365 -> 11.774194 | D32: =+(('Historicals & Projections'!C10+'Historicals & Projections'!D10)/2)/'Historicals & Projections'!D43*365 -> 13.419118 | E32: =+(('Historicals & Projections'!F10+'Historicals & Projections'!G10)/2)/'Historicals & Projections'!G43*365 -> 0.077222201 | F32: =+(('Historicals & Projections'!G10+'Historicals & Projections'!H10)/2)/'Historicals & Projections'!H43*365 -> 0.079607008 | G32: =+(('Historicals & Projections'!H10+'Historicals & Projections'!I10)/2)/'Historicals & Projections'!I43*365 -> 0.089689543
B33: Days payable outstanding | C33: =+'Historicals & Projections'!C21/'Historicals & Projections'!C43*365 -> 5.8870968 | D33: =+(('Historicals & Projections'!C21+'Historicals & Projections'!D21)/2)/'Historicals & Projections'!D43*365 -> 12.077206 | E33: =+(('Historicals & Projections'!F21+'Historicals & Projections'!G21)/2)/'Historicals & Projections'!G43*365 -> 0.069499981 | F33: =+(('Historicals & Projections'!G21+'Historicals & Projections'!H21)/2)/'Historicals & Projections'!H43*365 -> 0.071646307 | G33: =+(('Historicals & Projections'!H21+'Historicals & Projections'!I21)/2)/'Historicals & Projections'!I43*365 -> 0.080720589
B34: Cash conversion cycle days | C34: =+C31+C32-C33 -> 22.312097 | D34: =+D31+D32-D33 -> 17.103275 | E34: =+E31+E32-E33 -> 0.098099424 | F34: =+F31+F32-F33 -> 0.10084237 | G34: =+G31+G32-G33 -> 0.11349696
B35: Asset turnover | C35: =+'Historicals & Projections'!C40/'Historicals & Projections'!C32 -> 7.0175439 | D35: =+'Historicals & Projections'!D40/(('Historicals & Projections'!C19+'Historicals & Projections'!D19)/2) -> 4.9605411 | E35: =+'Historicals & Projections'!G40/(('Historicals & Projections'!F19+'Historicals & Projections'!G19)/2) -> -1.6033629 | F35: =+'Historicals & Projections'!H40/(('Historicals & Projections'!G19+'Historicals & Projections'!H19)/2) -> -1.7383544 | G35: =+'Historicals & Projections'!I40/(('Historicals & Projections'!H19+'Historicals & Projections'!I19)/2) -> -1.9065504
B36: Fixed asset turnover | C36: =+'Historicals & Projections'!C40/'Historicals & Projections'!C12 -> 10.810811 | D36: =+'Historicals & Projections'!D40/('Historicals & Projections'!D17+'Historicals & Projections'!C17) -> 8.8 | E36: =+'Historicals & Projections'!G40/('Historicals & Projections'!G17+'Historicals & Projections'!F17) -> 539.95893 | F36: =+'Historicals & Projections'!H40/('Historicals & Projections'!H17+'Historicals & Projections'!G17) -> 199.06525 | G36: =+'Historicals & Projections'!I40/('Historicals & Projections'!I17+'Historicals & Projections'!H17) -> 68.124428
B37: EBITDA to interest coverage | C37: =+'Historicals & Projections'!C57/'Historicals & Projections'!C63 -> 32.2 | D37: =+'Historicals & Projections'!D57/'Historicals & Projections'!D63 -> 36.8 | E37: =+'Historicals & Projections'!G57/'Historicals & Projections'!G63 -> -1.9567813 | F37: =+'Historicals & Projections'!H57/'Historicals & Projections'!H63 -> -0.10951569 | G37: =+'Historicals & Projections'!I57/'Historicals & Projections'!I63 -> 0.17108097
B38: Total cost per employee | C38: =+('Historicals & Projections'!C40-'Historicals & Projections'!C69)/Assumptions!C13 -> 550.625 | D38: =+('Historicals & Projections'!D40-'Historicals & Projections'!D69)/Assumptions!C12 -> 600.625 | E38: =+('Historicals & Projections'!G40-'Historicals & Projections'!G69)/Assumptions!C12 -> 148378.98 | F38: =+('Historicals & Projections'!H40-'Historicals & Projections'!H69)/Assumptions!C12 -> 360187.76 | G38: =+('Historicals & Projections'!I40-'Historicals & Projections'!I69)/Assumptions!C12 -> 499879.6
B39: Overhead cost per employee | C39: =+'Historicals & Projections'!C49/Assumptions!C13 -> 125 | D39: =+'Historicals & Projections'!D49/Assumptions!C12 -> 137.5 | E39: =+'Historicals & Projections'!G49/Assumptions!C12 -> 79741.951 | F39: =+'Historicals & Projections'!H49/Assumptions!C12 -> 79985.567 | G39: =+'Historicals & Projections'!I49/Assumptions!C12 -> 98975.989
B43: Structure | C43: =+C4 -> 2024 | D43: =+D4 -> 2025 | E43: =+E4 -> 2026 | F43: =+F4 -> 2027 | G43: =+G4 -> 2028
B45: Total COGS in Revenue | C45: =+'Historicals & Projections'!C43/'Historicals & Projections'!C40 -> 0.62 | D45: =+'Historicals & Projections'!D43/'Historicals & Projections'!D40 -> 0.61818182 | E45: =+'Historicals & Projections'!G43/'Historicals & Projections'!G40 -> 0.69057434 | F45: =+'Historicals & Projections'!H43/'Historicals & Projections'!H40 -> 0.68953083 | G45: =+'Historicals & Projections'!I43/'Historicals & Projections'!I40 -> 0.68411633
B46: COGS variable in revenue | C46: =+'Historicals & Projections'!C41/'Historicals & Projections'!C40 -> 0.6 | D46: =+'Historicals & Projections'!D41/'Historicals & Projections'!D40 -> 0.6 | E46: =+'Historicals & Projections'!G41/'Historicals & Projections'!G40 -> 0.67760319 | F46: =+'Historicals & Projections'!H41/'Historicals & Projections'!H40 -> 0.68469843 | G46: =+'Historicals & Projections'!I41/'Historicals & Projections'!I40 -> 0.68046282
B47: COGS fixed in revenue | C47: =+'Historicals & Projections'!C42/'Historicals & Projections'!C40 -> 0.02 | D47: =+'Historicals & Projections'!D42/'Historicals & Projections'!D40 -> 0.018181818 | E47: =+'Historicals & Projections'!G42/'Historicals & Projections'!G40 -> 0.012971155 | F47: =+'Historicals & Projections'!H42/'Historicals & Projections'!H40 -> 0.0048324048 | G47: =+'Historicals & Projections'!I42/'Historicals & Projections'!I40 -> 0.0036535124
B48: Overhead in revenue | C48: =+'Historicals & Projections'!C49/'Historicals & Projections'!C40 -> 0.2 | D48: =+'Historicals & Projections'!D49/'Historicals & Projections'!D40 -> 0.2 | E48: =+'Historicals & Projections'!G49/'Historicals & Projections'!G40 -> 1.5323633 | F48: =+'Historicals & Projections'!H49/'Historicals & Projections'!H40 -> 0.3775557 | G48: =+'Historicals & Projections'!I49/'Historicals & Projections'!I40 -> 0.25510406
B49: Interest expense in loans | C49: =+'Historicals & Projections'!C63/('Historicals & Projections'!C28+'Historicals & Projections'!C22) -> 0.071428571 | D49: =+'Historicals & Projections'!D63/('Historicals & Projections'!D28+'Historicals & Projections'!D22) -> 0.069444444 | E49: =+'Historicals & Projections'!G63/('Historicals & Projections'!G28+'Historicals & Projections'!G22) -> 1.0409177 | F49: =+'Historicals & Projections'!H63/('Historicals & Projections'!H28+'Historicals & Projections'!H22) -> 2.0328108 | G49: =+'Historicals & Projections'!I63/('Historicals & Projections'!I28+'Historicals & Projections'!I22) -> 2.0328108
B50: Equity ratio | C50: =+'Historicals & Projections'!C30/'Historicals & Projections'!C19 -> 0.35087719 | D50: =+'Historicals & Projections'!D30/'Historicals & Projections'!D19 -> 0.59468439 | E50: =+'Historicals & Projections'!G30/'Historicals & Projections'!G19 -> 1.4824524 | F50: =+'Historicals & Projections'!H30/'Historicals & Projections'!H19 -> 1.3676181 | G50: =+'Historicals & Projections'!I30/'Historicals & Projections'!I19 -> 1.2883237
B51: Debt ratio | C51: =+('Historicals & Projections'!C32-'Historicals & Projections'!C30)/'Historicals & Projections'!C32 -> 0.64912281 | D51: =+('Historicals & Projections'!D32-'Historicals & Projections'!D30)/'Historicals & Projections'!D32 -> 0.40531561 | E51: =+('Historicals & Projections'!G32-'Historicals & Projections'!G30)/'Historicals & Projections'!G32 -> -0.48245235 | F51: =+('Historicals & Projections'!H32-'Historicals & Projections'!H30)/'Historicals & Projections'!H32 -> -0.36761811 | G51: =+('Historicals & Projections'!I32-'Historicals & Projections'!I30)/'Historicals & Projections'!I32 -> -0.28832373
B52: Fixed assets in total assets | C52: =+'Historicals & Projections'!C17/'Historicals & Projections'!C12 -> 0.54054054 | D52: =+'Historicals & Projections'!D17/'Historicals & Projections'!D12 -> 0.33185841 | E52: =+'Historicals & Projections'!G17/'Historicals & Projections'!G12 -> -0.0014825071 | F52: =+'Historicals & Projections'!H17/'Historicals & Projections'!H12 -> -0.0053831411 | G52: =+'Historicals & Projections'!I17/'Historicals & Projections'!I12 -> -0.020297661
B53: Current assets in total assets | C53: =+'Historicals & Projections'!$C$12/'Historicals & Projections'!$C$19 -> 0.64912281 | D53: =+'Historicals & Projections'!$C$12/'Historicals & Projections'!$C$19 -> 0.64912281 | E53: =+'Historicals & Projections'!$C$12/'Historicals & Projections'!$C$19 -> 0.64912281 | F53: =+'Historicals & Projections'!$C$12/'Historicals & Projections'!$C$19 -> 0.64912281 | G53: =+'Historicals & Projections'!$C$12/'Historicals & Projections'!$C$19 -> 0.64912281
B54: Total cash in total assets | C54: =+'Historicals & Projections'!$C$8/'Historicals & Projections'!$C$19 -> 0.12280702 | D54: =+'Historicals & Projections'!$C$8/'Historicals & Projections'!$C$19 -> 0.12280702 | E54: =+'Historicals & Projections'!$C$8/'Historicals & Projections'!$C$19 -> 0.12280702 | F54: =+'Historicals & Projections'!$C$8/'Historicals & Projections'!$C$19 -> 0.12280702 | G54: =+'Historicals & Projections'!$C$8/'Historicals & Projections'!$C$19 -> 0.12280702
...

Sheet Revenue & COGS Building
A1: REVENUE AND COGS PLANNING
A3: 1 | B3: REVENUE FORECAST
B5: Assumptions
B7: Estimate revenue growth rate | H7: =+Assumptions!C14 -> 0.06
B8: Estimate sales loss from existing customers (revenue churn) | H8: =3% -> 0.03
B9: Gross margin estimate | H9: =+Assumptions!C15 -> 0.38181818
B10: Variable COGS share in total COGS | H10: =+'Historicals & Projections'!D41/'Historicals & Projections'!D43 -> 0.97058824
B12: Financial year start month | O12: =DATE(2026,1,31) -> 46053 | P12: =EOMONTH(O12,0)+1 -> 46054 | Q12: =EOMONTH(P12,0)+1 -> 46082 | R12: =EOMONTH(Q12,0)+1 -> 46113 | S12: =EOMONTH(R12,0)+1 -> 46143 | T12: =EOMONTH(S12,0)+1 -> 46174 | U12: =EOMONTH(T12,0)+1 -> 46204 | V12: =EOMONTH(U12,0)+1 -> 46235 | W12: =EOMONTH(V12,0)+1 -> 46266 | ... AX12: =EOMONTH(AW12,0)+1 -> 47088
B13: Month | O13: 1 | P13: =O13+1 -> 2 | Q13: =P13+1 -> 3 | R13: =Q13+1 -> 4 | S13: =R13+1 -> 5 | T13: =S13+1 -> 6 | U13: =T13+1 -> 7 | V13: =U13+1 -> 8 | W13: =V13+1 -> 9 | ... AX13: =AW13+1 -> 36
B14: Year | O14: =ROUNDUP(O13/12, 0) -> 1 | P14: =ROUNDUP(P13/12, 0) -> 1 | Q14: =ROUNDUP(Q13/12, 0) -> 1 | R14: =ROUNDUP(R13/12, 0) -> 1 | S14: =ROUNDUP(S13/12, 0) -> 1 | T14: =ROUNDUP(T13/12, 0) -> 1 | U14: =ROUNDUP(U13/12, 0) -> 1 | V14: =ROUNDUP(V13/12, 0) -> 1 | ... AX14: =ROUNDUP(AX13/12, 0) -> 3
B15: Revenue | C15: 2026 | D15: =C15+1 -> 2027 | E15: =D15+1 -> 2028 | F15: =E15+1 -> 2029 | O15: =YEAR(O12) -> 2026 | P15: =YEAR(P12) -> 2026 | Q15: =YEAR(Q12) -> 2026 | R15: =YEAR(R12) -> 2026 | S15: =YEAR(S12) -> 2026 | T15: =YEAR(T12) -> 2026 | U15: =YEAR(U12) -> 2026 | V15: =YEAR(V12) -> 2026 | ... AX15: =YEAR(AX12) -> 2028
I16: Transactions value
I18: Tier 1 (INSERT) | J18: =O15 -> 2026 | K18: 2027 | L18: 2028 | M18: 2029 | N18: 2030
B19: Beginning of period | C19: =O19 -> 30 | D19: =C22 -> 78 | E19: =D22 -> 81 | F19: =E22 -> 81 | I19: New Sales Win Frequency | J19: Monthly | K19: Monthly | L19: Monthly | M19: Monthly | N19: Monthly | O19: 30 | P19: =O22 -> 34 | Q19: =P22 -> 38 | R19: =Q22 -> 42 | S19: =R22 -> 46 | T19: =S22 -> 50 | U19: =T22 -> 54 | V19: =U22 -> 58 | W19: =V22 -> 62 | ... AX19: =AW22 -> 139
B20: Added in period | C20: =SUMIF(O15:Z15,C$15,O20:Z20) -> 60 | D20: =SUMIF(P15:AA15,D$15,P20:AA20) -> 4 | E20: =SUMIF(Q15:AB15,E$15,Q20:AB20) -> 0 | F20: =SUMIF(R15:AC15,F$15,R20:AC20) -> 0 | I20: New Clients Added | J20: 5 | K20: 4 | L20: 5 | M20: 10 | N20: 11 | O20: =IF(OR(AND(HLOOKUP(O$15,$J$18:$N$21,2,1)="Quarterly",MOD(Assumptions!$C$11,3)=0),AND(HLOOKUP(O$15,$J$18:$N$21,2,1)="Annually",MOD(Assumptions!$C$11,12)=0),HLOOKUP(O$15,$J$18:$N$21,2,1)="Monthly"),HLOOKUP(O$15,$J$18:$N$21,3,1),0) -> 5 | P20: =IF(OR(AND(HLOOKUP(P$15,$J$18:$N$21,2,1)="Quarterly",MOD(Assumptions!$C$11,3)=0),AND(HLOOKUP(P$15,$J$18:$N$21,2,1)="Annually",MOD(Assumptions!$C$11,12)=0),HLOOKUP(P$15,$J$18:$N$21,2,1)="Monthly"),HLOOKUP(P$15,$J$18:$N$21,3,1),0) -> 5 | Q20: =IF(OR(AND(HLOOKUP(Q$15,$J$18:$N$21,2,1)="Quarterly",MOD(Assumptions!$C$11,3)=0),AND(HLOOKUP(Q$15,$J$18:$N$21,2,1)="Annually",MOD(Assumptions!$C$11,12)=0),HLOOKUP(Q$15,$J$18:$N$21,2,1)="Monthly"),HLOOKUP(Q$15,$J$18:$N$21,3,1),0) -> 5 | R20: =IF(OR(AND(HLOOKUP(R$15,$J$18:$N$21,2,1)="Quarterly",MOD(Assumptions!$C$11,3)=0),AND(HLOOKUP(R$15,$J$18:$N$21,2,1)="Annually",MOD(Assumptions!$C$11,12)=0),HLOOKUP(R$15,$J$18:$N$21,2,1)="Monthly"),HLOOKUP(R$15,$J$18:$N$21,3,1),0) -> 5 | S20: =IF(OR(AND(HLOOKUP(S$15,$J$18:$N$21,2,1)="Quarterly",MOD(Assumptions!$C$11,3)=0),AND(HLOOKUP(S$15,$J$18:$N$21,2,1)="Annually",MOD(Assumptions!$C$11,12)=0),HLOOKUP(S$15,$J$18:$N$21,2,1)="Monthly"),HLOOKUP(S$15,$J$18:$N$21,3,1),0) -> 5 | T20: =IF(OR(AND(HLOOKUP(T$15,$J$18:$N$21,2,1)="Quarterly",MOD(Assumptions!$C$11,3)=0),AND(HLOOKUP(T$15,$J$18:$N$21,2,1)="Annually",MOD(Assumptions!$C$11,12)=0),HLOOKUP(T$15,$J$18:$N$21,2,1)="Monthly"),HLOOKUP(T$15,$J$18:$N$21,3,1),0) -> 5 | U20: =IF(OR(AND(HLOOKUP(U$15,$J$18:$N$21,2,1)="Quarterly",MOD(Assumptions!$C$11,3)=0),AND(HLOOKUP(U$15,$J$18:$N$21,2,1)="Annually",MOD(Assumptions!$C$11,12)=0),HLOOKUP(U$15,$J$18:$N$21,2,1)="Monthly"),HLOOKUP(U$15,$J$18:$N$21,3,1),0) -> 5 | V20: =IF(OR(AND(HLOOKUP(V$15,$J$18:$N$21,2,1)="Quarterly",MOD(Assumptions!$C$11,3)=0),AND(HLOOKUP(V$15,$J$18:$N$21,2,1)="Annually",MOD(Assumptions!$C$11,12)=0),HLOOKUP(V$15,$J$18:$N$21,2,1)="Monthly"),HLOOKUP(V$15,$J$18:$N$21,3,1),0) -> 5 | ... AX20: =IF(OR(AND(HLOOKUP(AX$15,$J$18:$N$21,2,1)="Quarterly",MOD(Assumptions!$C$11,3)=0),AND(HLOOKUP(AX$15,$J$18:$N$21,2,1)="Annually",MOD(Assumptions!$C$11,12)=0),HLOOKUP(AX$15,$J$18:$N$21,2,1)="Monthly"),HLOOKUP(AX$15,$J$18:$N$21,3,1),0) -> 5
B21: Churn | C21: =SUMIF(O15:Z15,C$15,O21:Z21) -> -12 | D21: =SUMIF(P15:AA15,D$15,P21:AA21) -> -1 | E21: =SUMIF(Q15:AB15,E$15,Q21:AB21) -> 0 | F21: =SUMIF(R15:AC15,F$15,R21:AC21) -> 0 | I21: Annual Churn % | J21: 0.2 | K21: 0.2 | L21: 0.2 | M21: 0.2 | N21: 0.2 | O21: =-ROUND(O19*HLOOKUP(O$15,$J$18:$N$21,4,1)/12,0) -> -1 | P21: =-ROUND(P19*HLOOKUP(P$15,$J$18:$N$21,4,1)/12,0) -> -1 | Q21: =-ROUND(Q19*HLOOKUP(Q$15,$J$18:$N$21,4,1)/12,0) -> -1 | R21: =-ROUND(R19*HLOOKUP(R$15,$J$18:$N$21,4,1)/12,0) -> -1 | S21: =-ROUND(S19*HLOOKUP(S$15,$J$18:$N$21,4,1)/12,0) -> -1 | T21: =-ROUND(T19*HLOOKUP(T$15,$J$18:$N$21,4,1)/12,0) -> -1 | U21: =-ROUND(U19*HLOOKUP(U$15,$J$18:$N$21,4,1)/12,0) -> -1 | V21: =-ROUND(V19*HLOOKUP(V$15,$J$18:$N$21,4,1)/12,0) -> -1 | ... AX21: =-ROUND(AX19*HLOOKUP(AX$15,$J$18:$N$21,4,1)/12,0) -> -2
B22: End of period | C22: =SUM(C19:C21) -> 78 | D22: =SUM(D19:D21) -> 81 | E22: =SUM(E19:E21) -> 81 | F22: =SUM(F19:F21) -> 81 | O22: =SUM(O19:O21) -> 34 | P22: =SUM(P19:P21) -> 38 | Q22: =SUM(Q19:Q21) -> 42 | R22: =SUM(R19:R21) -> 46 | S22: =SUM(S19:S21) -> 50 | T22: =SUM(T19:T21) -> 54 | U22: =SUM(U19:U21) -> 58 | V22: =SUM(V19:V21) -> 62 | ... AX22: =SUM(AX19:AX21) -> 142
I24: Transacation value | J24: 120000 | K24: 240000 | L24: 360000 | M24: 600000 | N24: 600000 | O24: {=INDEX($J24:$N24,O14)/12} -> 10000 | P24: {=INDEX($J24:$N24,P14)/12} -> 10000 | Q24: {=INDEX($J24:$N24,Q14)/12} -> 10000 | R24: {=INDEX($J24:$N24,R14)/12} -> 10000 | S24: {=INDEX($J24:$N24,S14)/12} -> 10000 | T24: {=INDEX($J24:$N24,T14)/12} -> 10000 | U24: {=INDEX($J24:$N24,U14)/12} -> 10000 | V24: {=INDEX($J24:$N24,V14)/12} -> 10000 | ... AX24: {=INDEX($J24:$N24,AX14)/12} -> 30000
I25: Take rate | J25: 0.03 | O25: =O19*O24*$J$25 -> 9000 | P25: =P19*P24*$J$25 -> 10200 | Q25: =Q19*Q24*$J$25 -> 11400 | R25: =R19*R24*$J$25 -> 12600 | S25: =S19*S24*$J$25 -> 13800 | T25: =T19*T24*$J$25 -> 15000 | U25: =U19*U24*$J$25 -> 16200 | V25: =V19*V24*$J$25 -> 17400 | ... AX25: =AX19*AX24*$J$25 -> 125100
O26: =O25 -> 9000 | P26: =P25 -> 10200 | Q26: =Q25 -> 11400 | R26: =R25 -> 12600 | S26: =S25 -> 13800 | T26: =T25 -> 15000 | U26: =U25 -> 16200 | V26: =V25 -> 17400 | ... AX26: =AX25 -> 125100
I29: Tier 2 (INSERT) | J29: =J18 -> 2026 | K29: =K18 -> 2027 | L29: =L18 -> 2028 | M29: =M18 -> 2029 | N29: =N18 -> 2030
B30: Beginning of period | C30: =O30 -> 15 | D30: =C33 -> 99 | E30: =D33 -> 109 | F30: =E33 -> 109 | I30: New Sales Win Frequency | J30: Monthly | K30: Monthly | L30: Monthly | M30: Monthly | N30: Monthly | O30: 15 | P30: =O33 -> 22 | Q30: =P33 -> 29 | R30: =Q33 -> 36 | S30: =R33 -> 43 | T30: =S33 -> 50 | U30: =T33 -> 57 | V30: =U33 -> 64 | W30: =V33 -> 71 | ... AX30: =AW33 -> 331
B31: Added in period | C31: =SUMIF(O15:Z15,C$15,O31:Z31) -> 84 | D31: =SUMIF(P15:AA15,D$15,P31:AA31) -> 10 | E31: =SUMIF(Q15:AB15,E$15,Q31:AB31) -> 0 | F31: =SUMIF(R15:AC15,F$15,R31:AC31) -> 0 | I31: New Clients Added | J31: 7 | K31: 10 | L31: 12 | M31: 15 | N31: 16 | O31: =IF(OR(AND(HLOOKUP(O$15,$J$29:$N$32,2,1)="Quarterly",MOD(Assumptions!$C$11,3)=0),AND(HLOOKUP(O$15,$J$29:$N$32,2,1)="Annually",MOD(Assumptions!$C$11,12)=0),HLOOKUP(O$15,$J$29:$N$32,2,1)="Monthly"),HLOOKUP(O$15,$J$29:$N$32,3,1),0) -> 7 | P31: =IF(OR(AND(HLOOKUP(P$15,$J$29:$N$32,2,1)="Quarterly",MOD(Assumptions!$C$11,3)=0),AND(HLOOKUP(P$15,$J$29:$N$32,2,1)="Annually",MOD(Assumptions!$C$11,12)=0),HLOOKUP(P$15,$J$29:$N$32,2,1)="Monthly"),HLOOKUP(P$15,$J$29:$N$32,3,1),0) -> 7 | Q31: =IF(OR(AND(HLOOKUP(Q$15,$J$29:$N$32,2,1)="Quarterly",MOD(Assumptions!$C$11,3)=0),AND(HLOOKUP(Q$15,$J$29:$N$32,2,1)="Annually",MOD(Assumptions!$C$11,12)=0),HLOOKUP(Q$15,$J$29:$N$32,2,1)="Monthly"),HLOOKUP(Q$15,$J$29:$N$32,3,1),0) -> 7 | R31: =IF(OR(AND(HLOOKUP(R$15,$J$29:$N$32,2,1)="Quarterly",MOD(Assumptions!$C$11,3)=0),AND(HLOOKUP(R$15,$J$29:$N$32,2,1)="Annually",MOD(Assumptions!$C$11,12)=0),HLOOKUP(R$15,$J$29:$N$32,2,1)="Monthly"),HLOOKUP(R$15,$J$29:$N$32,3,1),0) -> 7 | S31: =IF(OR(AND(HLOOKUP(S$15,$J$29:$N$32,2,1)="Quarterly",MOD(Assumptions!$C$11,3)=0),AND(HLOOKUP(S$15,$J$29:$N$32,2,1)="Annually",MOD(Assumptions!$C$11,12)=0),HLOOKUP(S$15,$J$29:$N$32,2,1)="Monthly"),HLOOKUP(S$15,$J$29:$N$32,3,1),0) -> 7 | T31: =IF(OR(AND(HLOOKUP(T$15,$J$29:$N$32,2,1)="Quarterly",MOD(Assumptions!$C$11,3)=0),AND(HLOOKUP(T$15,$J$29:$N$32,2,1)="Annually",MOD(Assumptions!$C$11,12)=0),HLOOKUP(T$15,$J$29:$N$32,2,1)="Monthly"),HLOOKUP(T$15,$J$29:$N$32,3,1),0) -> 7 | U31: =IF(OR(AND(HLOOKUP(U$15,$J$29:$N$32,2,1)="Quarterly",MOD(Assumptions!$C$11,3)=0),AND(HLOOKUP(U$15,$J$29:$N$32,2,1)="Annually",MOD(Assumptions!$C$11,12)=0),HLOOKUP(U$15,$J$29:$N$32,2,1)="Monthly"),HLOOKUP(U$15,$J$29:$N$32,3,1),0) -> 7 | V31: =IF(OR(AND(HLOOKUP(V$15,$J$29:$N$32,2,1)="Quarterly",MOD(Assumptions!$C$11,3)=0),AND(HLOOKUP(V$15,$J$29:$N$32,2,1)="Annually",MOD(Assumptions!$C$11,12)=0),HLOOKUP(V$15,$J$29:$N$32,2,1)="Monthly"),HLOOKUP(V$15,$J$29:$N$32,3,1),0) -> 7 | ... AX31: =IF(OR(AND(HLOOKUP(AX$15,$J$29:$N$32,2,1)="Quarterly",MOD(Assumptions!$C$11,3)=0),AND(HLOOKUP(AX$15,$J$29:$N$32,2,1)="Annually",MOD(Assumptions!$C$11,12)=0),HLOOKUP(AX$15,$J$29:$N$32,2,1)="Monthly"),HLOOKUP(AX$15,$J$29:$N$32,3,1),0) -> 12
B32: Churn | C32: =SUMIF(O15:Z15,C$15,O32:Z32) -> 0 | D32: =SUMIF(P15:AA15,D$15,P32:AA32) -> 0 | E32: =SUMIF(Q15:AB15,E$15,Q32:AB32) -> 0 | F32: =SUMIF(R15:AC15,F$15,R32:AC32) -> 0 | I32: Annual Churn % | J32: 0.05 | K32: 0.05 | L32: 0.05 | M32: 0.05 | N32: 0.05 | O32: =-ROUND(O30*HLOOKUP(O$15,$J$29:$N$32,4,1)/12,0) -> 0 | P32: =-ROUND(P30*HLOOKUP(P$15,$J$29:$N$32,4,1)/12,0) -> 0 | Q32: =-ROUND(Q30*HLOOKUP(Q$15,$J$29:$N$32,4,1)/12,0) -> 0 | R32: =-ROUND(R30*HLOOKUP(R$15,$J$29:$N$32,4,1)/12,0) -> 0 | S32: =-ROUND(S30*HLOOKUP(S$15,$J$29:$N$32,4,1)/12,0) -> 0 | T32: =-ROUND(T30*HLOOKUP(T$15,$J$29:$N$32,4,1)/12,0) -> 0 | U32: =-ROUND(U30*HLOOKUP(U$15,$J$29:$N$32,4,1)/12,0) -> 0 | V32: =-ROUND(V30*HLOOKUP(V$15,$J$29:$N$32,4,1)/12,0) -> 0 | ... AX32: =-ROUND(AX30*HLOOKUP(AX$15,$J$29:$N$32,4,1)/12,0) -> -1
B33: End of period | C33: =SUM(C30:C32) -> 99 | D33: =SUM(D30:D32) -> 109 | E33: =SUM(E30:E32) -> 109 | F33: =SUM(F30:F32) -> 109 | O33: =SUM(O30:O32) -> 22 | P33: =SUM(P30:P32) -> 29 | Q33: =SUM(Q30:Q32) -> 36 | R33: =SUM(R30:R32) -> 43 | S33: =SUM(S30:S32) -> 50 | T33: =SUM(T30:T32) -> 57 | U33: =SUM(U30:U32) -> 64 | V33: =SUM(V30:V32) -> 71 | ... AX33: =SUM(AX30:AX32) -> 342
I35: Transacation value | J35: 600000 | K35: 900000 | L35: 900000 | M35: 1000000 | N35: 1000000 | O35: {=INDEX($J35:$N35,O14)/12} -> 50000 | P35: {=INDEX($J35:$N35,P14)/12} -> 50000 | Q35: {=INDEX($J35:$N35,Q14)/12} -> 50000 | R35: {=INDEX($J35:$N35,R14)/12} -> 50000 | S35: {=INDEX($J35:$N35,S14)/12} -> 50000 | T35: {=INDEX($J35:$N35,T14)/12} -> 50000 | U35: {=INDEX($J35:$N35,U14)/12} -> 50000 | V35: {=INDEX($J35:$N35,V14)/12} -> 50000 | ... AX35: {=INDEX($J35:$N35,AX14)/12} -> 75000
I36: =I25 -> Take rate | J36: 0.02 | O36: =O30*O35*$J$36 -> 15000 | P36: =P30*P35*$J$36 -> 22000 | Q36: =Q30*Q35*$J$36 -> 29000 | R36: =R30*R35*$J$36 -> 36000 | S36: =S30*S35*$J$36 -> 43000 | T36: =T30*T35*$J$36 -> 50000 | U36: =U30*U35*$J$36 -> 57000 | V36: =V30*V35*$J$36 -> 64000 | ... AX36: =AX30*AX35*$J$36 -> 496500
O37: =O36 -> 15000 | P37: =P36 -> 22000 | Q37: =Q36 -> 29000 | R37: =R36 -> 36000 | S37: =S36 -> 43000 | T37: =T36 -> 50000 | U37: =U36 -> 57000 | V37: =V36 -> 64000 | ... AX37: =AX36 -> 496500
I40: Tier 3 (INSERT) | J40: =J29 -> 2026 | K40: =K29 -> 2027 | L40: =L29 -> 2028 | M40: =M29 -> 2029 | N40: =N29 -> 2030
B41: Beginning of period | C41: =O41 -> 20 | D41: =C44 -> 48 | E41: =D44 -> 54 | F41: =E44 -> 54 | I41: New Sales Win Frequency | J41: Monthly | K41: Monthly | L41: Monthly | M41: Monthly | N41: Monthly | O41: 20 | P41: =O44 -> 23 | Q41: =P44 -> 26 | R41: =Q44 -> 29 | S41: =R44 -> 32 | T41: =S44 -> 34 | U41: =T44 -> 36 | V41: =U44 -> 38 | W41: =V44 -> 40 | ... AX41: =AW44 -> 197
B42: Added in period | C42: =SUMIF(O15:Z15,C$15,O42:Z42) -> 36 | D42: =SUMIF(P15:AA15,D$15,P42:AA42) -> 7 | E42: =SUMIF(Q15:AB15,E$15,Q42:AB42) -> 0 | F42: =SUMIF(R15:AC15,F$15,R42:AC42) -> 0 | I42: New Clients Added | J42: 3 | K42: 7 | L42: 10 | M42: 20 | N42: 21 | O42: =IF(OR(AND(HLOOKUP(O$15,$J$40:$N$43,2,1)="Quarterly",MOD(Assumptions!$C$11,3)=0),AND(HLOOKUP(O$15,$J$40:$N$43,2,1)="Annually",MOD(Assumptions!$C$11,12)=0),HLOOKUP(O$15,$J$40:$N$43,2,1)="Monthly"),HLOOKUP(O$15,$J$40:$N$43,3,1),0) -> 3 | P42: =IF(OR(AND(HLOOKUP(P$15,$J$40:$N$43,2,1)="Quarterly",MOD(Assumptions!$C$11,3)=0),AND(HLOOKUP(P$15,$J$40:$N$43,2,1)="Annually",MOD(Assumptions!$C$11,12)=0),HLOOKUP(P$15,$J$40:$N$43,2,1)="Monthly"),HLOOKUP(P$15,$J$40:$N$43,3,1),0) -> 3 | Q42: =IF(OR(AND(HLOOKUP(Q$15,$J$40:$N$43,2,1)="Quarterly",MOD(Assumptions!$C$11,3)=0),AND(HLOOKUP(Q$15,$J$40:$N$43,2,1)="Annually",MOD(Assumptions!$C$11,12)=0),HLOOKUP(Q$15,$J$40:$N$43,2,1)="Monthly"),HLOOKUP(Q$15,$J$40:$N$43,3,1),0) -> 3 | R42: =IF(OR(AND(HLOOKUP(R$15,$J$40:$N$43,2,1)="Quarterly",MOD(Assumptions!$C$11,3)=0),AND(HLOOKUP(R$15,$J$40:$N$43,2,1)="Annually",MOD(Assumptions!$C$11,12)=0),HLOOKUP(R$15,$J$40:$N$43,2,1)="Monthly"),HLOOKUP(R$15,$J$40:$N$43,3,1),0) -> 3 | S42: =IF(OR(AND(HLOOKUP(S$15,$J$40:$N$43,2,1)="Quarterly",MOD(Assumptions!$C$11,3)=0),AND(HLOOKUP(S$15,$J$40:$N$43,2,1)="Annually",MOD(Assumptions!$C$11,12)=0),HLOOKUP(S$15,$J$40:$N$43,2,1)="Monthly"),HLOOKUP(S$15,$J$40:$N$43,3,1),0) -> 3 | T42: =IF(OR(AND(HLOOKUP(T$15,$J$40:$N$43,2,1)="Quarterly",MOD(Assumptions!$C$11,3)=0),AND(HLOOKUP(T$15,$J$40:$N$43,2,1)="Annually",MOD(Assumptions!$C$11,12)=0),HLOOKUP(T$15,$J$40:$N$43,2,1)="Monthly"),HLOOKUP(T$15,$J$40:$N$43,3,1),0) -> 3 | U42: =IF(OR(AND(HLOOKUP(U$15,$J$40:$N$43,2,1)="Quarterly",MOD(Assumptions!$C$11,3)=0),AND(HLOOKUP(U$15,$J$40:$N$43,2,1)="Annually",MOD(Assumptions!$C$11,12)=0),HLOOKUP(U$15,$J$40:$N$43,2,1)="Monthly"),HLOOKUP(U$15,$J$40:$N$43,3,1),0) -> 3 | V42: =IF(OR(AND(HLOOKUP(V$15,$J$40:$N$43,2,1)="Quarterly",MOD(Assumptions!$C$11,3)=0),AND(HLOOKUP(V$15,$J$40:$N$43,2,1)="Annually",MOD(Assumptions!$C$11,12)=0),HLOOKUP(V$15,$J$40:$N$43,2,1)="Monthly"),HLOOKUP(V$15,$J$40:$N$43,3,1),0) -> 3 | ... AX42: =IF(OR(AND(HLOOKUP(AX$15,$J$40:$N$43,2,1)="Quarterly",MOD(Assumptions!$C$11,3)=0),AND(HLOOKUP(AX$15,$J$40:$N$43,2,1)="Annually",MOD(Assumptions!$C$11,12)=0),HLOOKUP(AX$15,$J$40:$N$43,2,1)="Monthly"),HLOOKUP(AX$15,$J$40:$N$43,3,1),0) -> 10
B43: Churn | C43: =SUMIF(O15:Z15,C$15,O43:Z43) -> -8 | D43: =SUMIF(P15:AA15,D$15,P43:AA43) -> -1 | E43: =SUMIF(Q15:AB15,E$15,Q43:AB43) -> 0 | F43: =SUMIF(R15:AC15,F$15,R43:AC43) -> 0 | I43: Annual Churn % | J43: 0.2 | K43: 0.2 | L43: 0.2 | M43: 0.2 | N43: 0.2 | O43: =-ROUND(O41*HLOOKUP(O$15,$J$40:$N$43,4,1)/12,0) -> 0 | P43: =-ROUND(P41*HLOOKUP(P$15,$J$40:$N$43,4,1)/12,0) -> 0 | Q43: =-ROUND(Q41*HLOOKUP(Q$15,$J$40:$N$43,4,1)/12,0) -> 0 | R43: =-ROUND(R41*HLOOKUP(R$15,$J$40:$N$43,4,1)/12,0) -> 0 | S43: =-ROUND(S41*HLOOKUP(S$15,$J$40:$N$43,4,1)/12,0) -> -1 | T43: =-ROUND(T41*HLOOKUP(T$15,$J$40:$N$43,4,1)/12,0) -> -1 | U43: =-ROUND(U41*HLOOKUP(U$15,$J$40:$N$43,4,1)/12,0) -> -1 | V43: =-ROUND(V41*HLOOKUP(V$15,$J$40:$N$43,4,1)/12,0) -> -1 | ... AX43: =-ROUND(AX41*HLOOKUP(AX$15,$J$40:$N$43,4,1)/12,0) -> -3
B44: End of period | C44: =SUM(C41:C43) -> 48 | D44: =SUM(D41:D43) -> 54 | E44: =SUM(E41:E43) -> 54 | F44: =SUM(F41:F43) -> 54 | O44: =SUM(O41:O43) -> 23 | P44: =SUM(P41:P43) -> 26 | Q44: =SUM(Q41:Q43) -> 29 | R44: =SUM(R41:R43) -> 32 | S44: =SUM(S41:S43) -> 34 | T44: =SUM(T41:T43) -> 36 | U44: =SUM(U41:U43) -> 38 | V44: =SUM(V41:V43) -> 40 | ... AX44: =SUM(AX41:AX43) -> 204
I46: Transaction value | J46: 5000 | K46: 5000 | L46: 5000 | M46: 5000 | N46: 5000 | O46: {=INDEX($J46:$N46,O14)/12} -> 416.66667 | P46: {=INDEX($J46:$N46,P14)/12} -> 416.66667 | Q46: {=INDEX($J46:$N46,Q14)/12} -> 416.66667 | R46: {=INDEX($J46:$N46,R14)/12} -> 416.66667 | S46: {=INDEX($J46:$N46,S14)/12} -> 416.66667 | T46: {=INDEX($J46:$N46,T14)/12} -> 416.66667 | U46: {=INDEX($J46:$N46,U14)/12} -> 416.66667 | V46: {=INDEX($J46:$N46,V14)/12} -> 416.66667 | ... AX46: {=INDEX($J46:$N46,AX14)/12} -> 416.66667
I47: =I25 -> Take rate | J47: =J36 -> 0.02 | O47: =O41*O46*$J$47 -> 166.66667 | P47: =P41*P46*$J$47 -> 191.66667 | Q47: =Q41*Q46*$J$47 -> 216.66667 | R47: =R41*R46*$J$47 -> 241.66667 | S47: =S41*S46*$J$47 -> 266.66667 | T47: =T41*T46*$J$47 -> 283.33333 | U47: =U41*U46*$J$47 -> 300 | V47: =V41*V46*$J$47 -> 316.66667 | ... AX47: =AX41*AX46*$J$47 -> 1641.6667
O48: =O47 -> 166.66667 | P48: =P47 -> 191.66667 | Q48: =Q47 -> 216.66667 | R48: =R47 -> 241.66667 | S48: =S47 -> 266.66667 | T48: =T47 -> 283.33333 | U48: =U47 -> 300 | V48: =V47 -> 316.66667 | ... AX48: =AX47 -> 1641.6667
N51: Total new clients | O51: =O20+O31+O42 -> 15 | P51: =P20+P31+P42 -> 15 | Q51: =Q20+Q31+Q42 -> 15 | R51: =R20+R31+R42 -> 15 | S51: =S20+S31+S42 -> 15 | T51: =T20+T31+T42 -> 15 | U51: =U20+U31+U42 -> 15 | V51: =V20+V31+V42 -> 15 | ... AX51: =AX20+AX31+AX42 -> 27
N52: TPV | O52: =O24*O19+O35*O30+O46*O41 -> 1058333.3 | P52: =P24*P19+P35*P30+P46*P41 -> 1449583.3 | Q52: =Q24*Q19+Q35*Q30+Q46*Q41 -> 1840833.3 | R52: =R24*R19+R35*R30+R46*R41 -> 2232083.3 | S52: =S24*S19+S35*S30+S46*S41 -> 2623333.3 | T52: =T24*T19+T35*T30+T46*T41 -> 3014166.7 | U52: =U24*U19+U35*U30+U46*U41 -> 3405000 | V52: =V24*V19+V35*V30+V46*V41 -> 3795833.3 | ... AX52: =AX24*AX19+AX35*AX30+AX46*AX41 -> 29077083
N53: Net revenue | O53: =O26+O37+O48 -> 24166.667 | P53: =P26+P37+P48 -> 32391.667 | Q53: =Q26+Q37+Q48 -> 40616.667 | R53: =R26+R37+R48 -> 48841.667 | S53: =S26+S37+S48 -> 57066.667 | T53: =T26+T37+T48 -> 65283.333 | U53: =U26+U37+U48 -> 73500 | V53: =V26+V37+V48 -> 81716.667 | ... AX53: =AX26+AX37+AX48 -> 623241.67
B55: Core Revenue | O55: =O53 -> 24166.667 | P55: =P53 -> 32391.667 | Q55: =Q53 -> 40616.667 | R55: =R53 -> 48841.667 | S55: =S53 -> 57066.667 | T55: =T53 -> 65283.333 | U55: =U53 -> 73500 | V55: =V53 -> 81716.667 | ... AX55: =AX53 -> 623241.67
...

Sheet Salaries & Headcount
A1: SALARIES AND HEADCOUNT
J3: inflation +3% | M3: Time engaged in % | Q3: Cost projections
P5: ='Revenue & COGS Building'!O12 -> 46053 | Q5: ='Revenue & COGS Building'!P12 -> 46054 | R5: ='Revenue & COGS Building'!Q12 -> 46082 | S5: ='Revenue & COGS Building'!R12 -> 46113 | T5: ='Revenue & COGS Building'!S12 -> 46143 | U5: ='Revenue & COGS Building'!T12 -> 46174 | V5: ='Revenue & COGS Building'!U12 -> 46204 | W5: ='Revenue & COGS Building'!V12 -> 46235 | ... AY5: ='Revenue & COGS Building'!AX12 -> 47088
P6: ='Revenue & COGS Building'!O13 -> 1 | Q6: ='Revenue & COGS Building'!P13 -> 2 | R6: ='Revenue & COGS Building'!Q13 -> 3 | S6: ='Revenue & COGS Building'!R13 -> 4 | T6: ='Revenue & COGS Building'!S13 -> 5 | U6: ='Revenue & COGS Building'!T13 -> 6 | V6: ='Revenue & COGS Building'!U13 -> 7 | W6: ='Revenue & COGS Building'!V13 -> 8 | ... AY6: ='Revenue & COGS Building'!AX13 -> 36
P7: ='Revenue & COGS Building'!O14 -> 1 | Q7: ='Revenue & COGS Building'!P14 -> 1 | R7: ='Revenue & COGS Building'!Q14 -> 1 | S7: ='Revenue & COGS Building'!R14 -> 1 | T7: ='Revenue & COGS Building'!S14 -> 1 | U7: ='Revenue & COGS Building'!T14 -> 1 | V7: ='Revenue & COGS Building'!U14 -> 1 | W7: ='Revenue & COGS Building'!V14 -> 1 | ... AY7: ='Revenue & COGS Building'!AX14 -> 3
B8: Position | C8: Salaries and wages | D8: ='Historicals & Projections'!C6 -> 2024 | E8: ='Historicals & Projections'!D6 -> 2025 | F8: Raise | G8: Bonus % | H8: Bonus amount | I8: Annual costs | J8: Est Annual Growth | K8: ='Revenue & COGS Building'!O15 -> 2026 | L8: =+K8+1 -> 2027 | M8: =+L8+1 -> 2028 | N8: =+M8+1 -> 2029 | O8: =+N8+1 -> 2030 | P8: ='Revenue & COGS Building'!O15 -> 2026 | Q8: ='Revenue & COGS Building'!P15 -> 2026 | R8: ='Revenue & COGS Building'!Q15 -> 2026 | S8: ='Revenue & COGS Building'!R15 -> 2026 | T8: ='Revenue & COGS Building'!S15 -> 2026 | U8: ='Revenue & COGS Building'!T15 -> 2026 | V8: ='Revenue & COGS Building'!U15 -> 2026 | W8: ='Revenue & COGS Building'!V15 -> 2026 | ... AY8: ='Revenue & COGS Building'!AX15 -> 2028
B9: Headcount Direct Work (Variable)
B10: Production workers | C10: Employee 1 | D10: 2500 | E10: 2600 | F10: =+E10/D10-1 -> 0.04 | G10: 0.2 | H10: =+E10*G10 -> 520 | I10: =+E10+H10 -> 3120 | J10: 0.1 | K10: 1 | L10: 1 | M10: 0.45 | N10: 1 | O10: 1 | P10: =($I10 * (1+$J10)^P$7 / 12) * CHOOSE(P$7, $K10, $L10, $M10, $N10,$O10) -> 286 | Q10: =($I10 * (1+$J10)^Q$7 / 12) * CHOOSE(Q$7, $K10, $L10, $M10, $N10,$O10) -> 286 | R10: =($I10 * (1+$J10)^R$7 / 12) * CHOOSE(R$7, $K10, $L10, $M10, $N10,$O10) -> 286 | S10: =($I10 * (1+$J10)^S$7 / 12) * CHOOSE(S$7, $K10, $L10, $M10, $N10,$O10) -> 286 | T10: =($I10 * (1+$J10)^T$7 / 12) * CHOOSE(T$7, $K10, $L10, $M10, $N10,$O10) -> 286 | U10: =($I10 * (1+$J10)^U$7 / 12) * CHOOSE(U$7, $K10, $L10, $M10, $N10,$O10) -> 286 | V10: =($I10 * (1+$J10)^V$7 / 12) * CHOOSE(V$7, $K10, $L10, $M10, $N10,$O10) -> 286 | W10: =($I10 * (1+$J10)^W$7 / 12) * CHOOSE(W$7, $K10, $L10, $M10, $N10,$O10) -> 286 | ... AY10: =($I10 * (1+$J10)^AY$7 / 12) * CHOOSE(AY$7, $K10, $L10, $M10, $N10,$O10) -> 155.727
B11: Service | C11: Employee 2 | D11: 3500 | E11: 3800 | F11: =+E11/D11-1 -> 0.085714286 | G11: 0.2 | H11: =+E11*G11 -> 760 | I11: =+E11+H11 -> 4560 | J11: 0.1 | K11: 1 | L11: 1 | M11: 1 | N11: 1 | O11: 1 | P11: =($I11 * (1+$J11)^P$7 / 12) * CHOOSE(P$7, $K11, $L11, $M11, $N11,$O11) -> 418 | Q11: =($I11 * (1+$J11)^Q$7 / 12) * CHOOSE(Q$7, $K11, $L11, $M11, $N11,$O11) -> 418 | R11: =($I11 * (1+$J11)^R$7 / 12) * CHOOSE(R$7, $K11, $L11, $M11, $N11,$O11) -> 418 | S11: =($I11 * (1+$J11)^S$7 / 12) * CHOOSE(S$7, $K11, $L11, $M11, $N11,$O11) -> 418 | T11: =($I11 * (1+$J11)^T$7 / 12) * CHOOSE(T$7, $K11, $L11, $M11, $N11,$O11) -> 418 | U11: =($I11 * (1+$J11)^U$7 / 12) * CHOOSE(U$7, $K11, $L11, $M11, $N11,$O11) -> 418 | V11: =($I11 * (1+$J11)^V$7 / 12) * CHOOSE(V$7, $K11, $L11, $M11, $N11,$O11) -> 418 | W11: =($I11 * (1+$J11)^W$7 / 12) * CHOOSE(W$7, $K11, $L11, $M11, $N11,$O11) -> 418 | ... AY11: =($I11 * (1+$J11)^AY$7 / 12) * CHOOSE(AY$7, $K11, $L11, $M11, $N11,$O11) -> 505.78
B12: Retail | C12: Employee 3 | D12: 4000 | E12: 4200 | F12: =+E12/D12-1 -> 0.05 | G12: 0.2 | H12: =+E12*G12 -> 840 | I12: =+E12+H12 -> 5040 | J12: 0.1 | K12: 1 | L12: 1 | M12: 1 | N12: 1 | O12: 1 | P12: =($I12 * (1+$J12)^P$7 / 12) * CHOOSE(P$7, $K12, $L12, $M12, $N12,$O12) -> 462 | Q12: =($I12 * (1+$J12)^Q$7 / 12) * CHOOSE(Q$7, $K12, $L12, $M12, $N12,$O12) -> 462 | R12: =($I12 * (1+$J12)^R$7 / 12) * CHOOSE(R$7, $K12, $L12, $M12, $N12,$O12) -> 462 | S12: =($I12 * (1+$J12)^S$7 / 12) * CHOOSE(S$7, $K12, $L12, $M12, $N12,$O12) -> 462 | T12: =($I12 * (1+$J12)^T$7 / 12) * CHOOSE(T$7, $K12, $L12, $M12, $N12,$O12) -> 462 | U12: =($I12 * (1+$J12)^U$7 / 12) * CHOOSE(U$7, $K12, $L12, $M12, $N12,$O12) -> 462 | V12: =($I12 * (1+$J12)^V$7 / 12) * CHOOSE(V$7, $K12, $L12, $M12, $N12,$O12) -> 462 | W12: =($I12 * (1+$J12)^W$7 / 12) * CHOOSE(W$7, $K12, $L12, $M12, $N12,$O12) -> 462 | ... AY12: =($I12 * (1+$J12)^AY$7 / 12) * CHOOSE(AY$7, $K12, $L12, $M12, $N12,$O12) -> 559.02
B13: Sales | C13: Employee 4 | D13: 5000 | E13: 5500 | F13: =+E13/D13-1 -> 0.1 | G13: 0.2 | H13: =+E13*G13 -> 1100 | I13: =+E13+H13 -> 6600 | J13: 0.1 | K13: 1 | L13: 1 | M13: 1 | N13: 1 | O13: 1 | P13: =($I13 * (1+$J13)^P$7 / 12) * CHOOSE(P$7, $K13, $L13, $M13, $N13,$O13) -> 605 | Q13: =($I13 * (1+$J13)^Q$7 / 12) * CHOOSE(Q$7, $K13, $L13, $M13, $N13,$O13) -> 605 | R13: =($I13 * (1+$J13)^R$7 / 12) * CHOOSE(R$7, $K13, $L13, $M13, $N13,$O13) -> 605 | S13: =($I13 * (1+$J13)^S$7 / 12) * CHOOSE(S$7, $K13, $L13, $M13, $N13,$O13) -> 605 | T13: =($I13 * (1+$J13)^T$7 / 12) * CHOOSE(T$7, $K13, $L13, $M13, $N13,$O13) -> 605 | U13: =($I13 * (1+$J13)^U$7 / 12) * CHOOSE(U$7, $K13, $L13, $M13, $N13,$O13) -> 605 | V13: =($I13 * (1+$J13)^V$7 / 12) * CHOOSE(V$7, $K13, $L13, $M13, $N13,$O13) -> 605 | W13: =($I13 * (1+$J13)^W$7 / 12) * CHOOSE(W$7, $K13, $L13, $M13, $N13,$O13) -> 605 | ... AY13: =($I13 * (1+$J13)^AY$7 / 12) * CHOOSE(AY$7, $K13, $L13, $M13, $N13,$O13) -> 732.05
B14: Developers | C14: Employee 5 | D14: 5000 | E14: 5200 | F14: =+E14/D14-1 -> 0.04 | G14: 0.15 | H14: =+E14*G14 -> 780 | I14: =+E14+H14 -> 5980 | J14: 0.1 | K14: 1 | L14: 1 | M14: 1 | N14: 1 | O14: 1 | P14: =($I14 * (1+$J14)^P$7 / 12) * CHOOSE(P$7, $K14, $L14, $M14, $N14,$O14) -> 548.16667 | Q14: =($I14 * (1+$J14)^Q$7 / 12) * CHOOSE(Q$7, $K14, $L14, $M14, $N14,$O14) -> 548.16667 | R14: =($I14 * (1+$J14)^R$7 / 12) * CHOOSE(R$7, $K14, $L14, $M14, $N14,$O14) -> 548.16667 | S14: =($I14 * (1+$J14)^S$7 / 12) * CHOOSE(S$7, $K14, $L14, $M14, $N14,$O14) -> 548.16667 | T14: =($I14 * (1+$J14)^T$7 / 12) * CHOOSE(T$7, $K14, $L14, $M14, $N14,$O14) -> 548.16667 | U14: =($I14 * (1+$J14)^U$7 / 12) * CHOOSE(U$7, $K14, $L14, $M14, $N14,$O14) -> 548.16667 | V14: =($I14 * (1+$J14)^V$7 / 12) * CHOOSE(V$7, $K14, $L14, $M14, $N14,$O14) -> 548.16667 | W14: =($I14 * (1+$J14)^W$7 / 12) * CHOOSE(W$7, $K14, $L14, $M14, $N14,$O14) -> 548.16667 | ... AY14: =($I14 * (1+$J14)^AY$7 / 12) * CHOOSE(AY$7, $K14, $L14, $M14, $N14,$O14) -> 663.28167
